BEGIN:VCALENDAR
VERSION:2.0
PRODID:-//Healthy Living + Travel - ECPv6.14.2//NONSGML v1.0//EN
CALSCALE:GREGORIAN
METHOD:PUBLISH
X-ORIGINAL-URL:https://old.healthylivingandtravel.com
X-WR-CALDESC:Events for Healthy Living + Travel
REFRESH-INTERVAL;VALUE=DURATION:PT1H
X-Robots-Tag:noindex
X-PUBLISHED-TTL:PT1H
BEGIN:VTIMEZONE
TZID:America/Vancouver
BEGIN:DAYLIGHT
TZOFFSETFROM:-0800
TZOFFSETTO:-0700
TZNAME:PDT
DTSTART:20220313T100000
END:DAYLIGHT
BEGIN:STANDARD
TZOFFSETFROM:-0700
TZOFFSETTO:-0800
TZNAME:PST
DTSTART:20221106T090000
END:STANDARD
END:VTIMEZONE
BEGIN:VEVENT
DTSTART;VALUE=DATE:20220917
DTEND;VALUE=DATE:20221004
DTSTAMP:20260420T184341
CREATED:20220705T070009Z
LAST-MODIFIED:20220705T175736Z
UID:15043-1663372800-1664841599@old.healthylivingandtravel.com
SUMMARY:Oktoberfest
DESCRIPTION:Munich\, Germany’s Oktoberfest is the premier beer event in the world. \nThe event attracts people in droves\, and the 2022 festival is expected to be even more popular. Each year an average of almost 7 million people visit the 16-day festival in Munich\, Germany. \nIt’s not hard to figure out why – it’s the ultimate experience for the beer lovers of the world and for those who just love to party.
URL:https://old.healthylivingandtravel.com/calendar/oktoberfest/
LOCATION:Oktoberfest\, Munich\, Germany
CATEGORIES:Beer,Food
ATTACH;FMTTYPE=image/jpeg:https://old.healthylivingandtravel.com/wp-content/uploads/2017/04/Oktoberfest-Healthy-Living-Travel.jpg
END:VEVENT
END:VCALENDAR